BEGIN:VCALENDAR
VERSION:2.0
PRODID:-//Catedral de Santander - ECPv6.15.20//NONSGML v1.0//EN
CALSCALE:GREGORIAN
METHOD:PUBLISH
X-ORIGINAL-URL:https://catedraldesantander.es
X-WR-CALDESC:Eventos para Catedral de Santander
REFRESH-INTERVAL;VALUE=DURATION:PT1H
X-Robots-Tag:noindex
X-PUBLISHED-TTL:PT1H
BEGIN:VTIMEZONE
TZID:Europe/Madrid
BEGIN:DAYLIGHT
TZOFFSETFROM:+0100
TZOFFSETTO:+0200
TZNAME:CEST
DTSTART:20230326T010000
END:DAYLIGHT
BEGIN:STANDARD
TZOFFSETFROM:+0200
TZOFFSETTO:+0100
TZNAME:CET
DTSTART:20231029T010000
END:STANDARD
BEGIN:DAYLIGHT
TZOFFSETFROM:+0100
TZOFFSETTO:+0200
TZNAME:CEST
DTSTART:20240331T010000
END:DAYLIGHT
BEGIN:STANDARD
TZOFFSETFROM:+0200
TZOFFSETTO:+0100
TZNAME:CET
DTSTART:20241027T010000
END:STANDARD
BEGIN:DAYLIGHT
TZOFFSETFROM:+0100
TZOFFSETTO:+0200
TZNAME:CEST
DTSTART:20250330T010000
END:DAYLIGHT
BEGIN:STANDARD
TZOFFSETFROM:+0200
TZOFFSETTO:+0100
TZNAME:CET
DTSTART:20251026T010000
END:STANDARD
BEGIN:DAYLIGHT
TZOFFSETFROM:+0100
TZOFFSETTO:+0200
TZNAME:CEST
DTSTART:20260329T010000
END:DAYLIGHT
BEGIN:STANDARD
TZOFFSETFROM:+0200
TZOFFSETTO:+0100
TZNAME:CET
DTSTART:20261025T010000
END:STANDARD
END:VTIMEZONE
BEGIN:VEVENT
DTSTART;TZID=Europe/Madrid:20241222T180000
DTEND;TZID=Europe/Madrid:20241222T200000
DTSTAMP:20260420T154304
CREATED:20241211T164007Z
LAST-MODIFIED:20241216T174136Z
UID:1909-1734890400-1734897600@catedraldesantander.es
SUMMARY:BELÉN VIVIENTE
DESCRIPTION:Se representará el viernes 20\, el sábado 21 y el domingo 22 con entrada totalmente gratuita\, y serán los miembros de la Cofradía de la Pasión quienes representarán a las principales figuras del nacimiento que estará compuesto por la sagrada familia (María\, José y el niño Jesús)\, los tres Reyes Magos\, los pastores\, el ángel\, la estrella\, además de Herodes y la guardia romana.
URL:https://catedraldesantander.es/event/belen-viviente-3/
LOCATION:S.I.B Catedral de Santander\, C. Somorrostro\, sn\, Santander\, Cantabria\, 39002\, España
CATEGORIES:Navidad
ATTACH;FMTTYPE=image/jpeg:https://catedraldesantander.es/wp-content/uploads/2024/12/belen_1.jpg
ORGANIZER;CN="Catedral de Santander":MAILTO:sacristia@catedraldesantander.es
END:VEVENT
BEGIN:VEVENT
DTSTART;TZID=Europe/Madrid:20241222T204500
DTEND;TZID=Europe/Madrid:20241222T220000
DTSTAMP:20260420T154304
CREATED:20241112T170916Z
LAST-MODIFIED:20241215T135600Z
UID:1859-1734900300-1734904800@catedraldesantander.es
SUMMARY:CONCIERTO TIEMPO DE NAVIDAD. A CAPPELLA
DESCRIPTION:A CAPPELLA. CONCIERTO DE MÚSICA ANTIGUA PARA TIEMPO DE NAVIDAD
URL:https://catedraldesantander.es/event/concierto/
LOCATION:S.I.B Catedral de Santander\, C. Somorrostro\, sn\, Santander\, Cantabria\, 39002\, España
CATEGORIES:Conciertos,Música
ATTACH;FMTTYPE=image/jpeg:https://catedraldesantander.es/wp-content/uploads/2024/11/navidad-coro-a-cappella.jpg
ORGANIZER;CN="Catedral de Santander":MAILTO:sacristia@catedraldesantander.es
END:VEVENT
BEGIN:VEVENT
DTSTART;TZID=Europe/Madrid:20241223T200000
DTEND;TZID=Europe/Madrid:20241223T213000
DTSTAMP:20260420T154304
CREATED:20241205T172343Z
LAST-MODIFIED:20241217T100939Z
UID:1893-1734984000-1734989400@catedraldesantander.es
SUMMARY:Concierto y Villancicos
DESCRIPTION:Concierto y villancicos. Orquesta de Cámara Aedea del Conservatorio Jesús de Monasterio y alumnos del Conservatorio de Torrelavega.
URL:https://catedraldesantander.es/event/concierto-y-villancicos/
LOCATION:S.I.B. Catedral de Santander\, Calle Somorrostro s/n\, Santander. Cantabria
CATEGORIES:Conciertos,Música
ATTACH;FMTTYPE=image/jpeg:https://catedraldesantander.es/wp-content/uploads/2024/12/jesus_monasterio.jpg
ORGANIZER;CN="Catedral de Santander":MAILTO:sacristia@catedraldesantander.es
END:VEVENT
BEGIN:VEVENT
DTSTART;TZID=Europe/Madrid:20241229T180000
DTEND;TZID=Europe/Madrid:20241229T193000
DTSTAMP:20260420T154304
CREATED:20241205T173231Z
LAST-MODIFIED:20241220T163859Z
UID:1897-1735495200-1735500600@catedraldesantander.es
SUMMARY:Sta. Misa apertura Jubileo de la Esperanza
DESCRIPTION:Apertura Diocesana del Jubileo de la Esperanza 2025. Inicio en la parroquia del Stmo. Cristo y posterior Misa Solemne S.I.B Catedral
URL:https://catedraldesantander.es/event/sta-misa-apertura-jubileo-de-la-esperanza/
LOCATION:S.I.B Catedral de Santander\, C. Somorrostro\, sn\, Santander\, Cantabria\, 39002\, España
CATEGORIES:Eucaristía
ATTACH;FMTTYPE=image/jpeg:https://catedraldesantander.es/wp-content/uploads/2024/12/cartel-misa-inaugural_jubil_25.jpg
ORGANIZER;CN="Catedral de Santander":MAILTO:sacristia@catedraldesantander.es
END:VEVENT
BEGIN:VEVENT
DTSTART;TZID=Europe/Madrid:20250322T103000
DTEND;TZID=Europe/Madrid:20250322T130000
DTSTAMP:20260420T154304
CREATED:20250130T173904Z
LAST-MODIFIED:20250130T180050Z
UID:1954-1742639400-1742648400@catedraldesantander.es
SUMMARY:CICLO CONFERENCIAS. La Eucaristía: descubrirla y sentirla. El hecho litúrgico. La Santa Misa (I)
DESCRIPTION:La Eucaristía: descubrirla y sentirla. El hecho litúrgico. La Santa Misa (I).  \n\n\n\n\n\nEdificio Archivo Catedralicio y Diocesano de Santander (junto a Hotel Bahía.) \n\n\n\n SALA MANUEL SÁNCHEZ MONGE.
URL:https://catedraldesantander.es/event/ciclo-conferencias-la-eucaristia-descubrirla-y-sentirla/
LOCATION:S.I.B Catedral de Santander\, C. Somorrostro\, sn\, Santander\, Cantabria\, 39002\, España
CATEGORIES:Conferencias
ATTACH;FMTTYPE=image/jpeg:https://catedraldesantander.es/wp-content/uploads/2025/01/La-Eucaristia-aproximacion-historica-scaled.jpg
ORGANIZER;CN="Catedral de Santander":MAILTO:sacristia@catedraldesantander.es
END:VEVENT
BEGIN:VEVENT
DTSTART;TZID=Europe/Madrid:20250426T103000
DTEND;TZID=Europe/Madrid:20250426T130000
DTSTAMP:20260420T154304
CREATED:20250130T174409Z
LAST-MODIFIED:20250130T180414Z
UID:1958-1745663400-1745672400@catedraldesantander.es
SUMMARY:CICLO CONFERENCIAS. La Eucaristía: descubrirla y sentirla. L a S a n t a M i s a ( I I ) . L a P l e g a r i a E u c a r í s t i c a.
DESCRIPTION:La Eucaristía: descubrirla y sentirla. L a S a n t a M i s a ( I I ) . L a P l e g a r i a E u c a r í s t i c a.  \n\n\n\n\n\nEdificio Archivo Catedralicio y Diocesano de Santander (junto a Hotel Bahía.) \n\n\n\nSALA MANUEL SÁNCHEZ MONGE.
URL:https://catedraldesantander.es/event/ciclo-conferencias-la-eucaristia-descubrirla-y-sentirla-l-a-s-a-n-t-a-m-i-s-a-i-i-l-a-p-l-e-g-a-r-i-a-e-u-c-a-r-i-s-t-i-c-a/
LOCATION:S.I.B Catedral de Santander\, C. Somorrostro\, sn\, Santander\, Cantabria\, 39002\, España
CATEGORIES:Conferencias
ATTACH;FMTTYPE=image/jpeg:https://catedraldesantander.es/wp-content/uploads/2025/01/La-Eucaristia-aproximacion-historica-scaled.jpg
ORGANIZER;CN="Catedral de Santander":MAILTO:sacristia@catedraldesantander.es
END:VEVENT
BEGIN:VEVENT
DTSTART;TZID=Europe/Madrid:20250510T103000
DTEND;TZID=Europe/Madrid:20250510T130000
DTSTAMP:20260420T154304
CREATED:20250130T174936Z
LAST-MODIFIED:20250130T180431Z
UID:1961-1746873000-1746882000@catedraldesantander.es
SUMMARY:CICLO CONFERENCIAS. La Eucaristía: descubrirla y sentirla. Origen y desarrollo de la Eucaristía. LaTransustanciación.
DESCRIPTION:Origen y desarrollo de la Eucaristía. La Transustanciación \n\n\n\n\n\nEdificio Archivo Catedralicio y Diocesano de Santander (junto a Hotel Bahía.) \n\n\n\nSALA MANUEL SÁNCHEZ MONGE.
URL:https://catedraldesantander.es/event/ciclo-conferencias-la-eucaristia-descubrirla-y-sentirla-2/
LOCATION:S.I.B Catedral de Santander\, C. Somorrostro\, sn\, Santander\, Cantabria\, 39002\, España
CATEGORIES:Conferencias
ATTACH;FMTTYPE=image/jpeg:https://catedraldesantander.es/wp-content/uploads/2025/01/La-Eucaristia-aproximacion-historica-scaled.jpg
ORGANIZER;CN="Catedral de Santander":MAILTO:sacristia@catedraldesantander.es
END:VEVENT
END:VCALENDAR